BEGIN:VCALENDAR
VERSION:2.0
PRODID:-//Fabian Vogt - ECPv6.15.20//NONSGML v1.0//EN
CALSCALE:GREGORIAN
METHOD:PUBLISH
X-WR-CALNAME:Fabian Vogt
X-ORIGINAL-URL:https://www.fabianvogt.de
X-WR-CALDESC:Veranstaltungen für Fabian Vogt
REFRESH-INTERVAL;VALUE=DURATION:PT1H
X-Robots-Tag:noindex
X-PUBLISHED-TTL:PT1H
BEGIN:VTIMEZONE
TZID:Europe/Berlin
BEGIN:DAYLIGHT
TZOFFSETFROM:+0100
TZOFFSETTO:+0200
TZNAME:CEST
DTSTART:20240331T010000
END:DAYLIGHT
BEGIN:STANDARD
TZOFFSETFROM:+0200
TZOFFSETTO:+0100
TZNAME:CET
DTSTART:20241027T010000
END:STANDARD
BEGIN:DAYLIGHT
TZOFFSETFROM:+0100
TZOFFSETTO:+0200
TZNAME:CEST
DTSTART:20250330T010000
END:DAYLIGHT
BEGIN:STANDARD
TZOFFSETFROM:+0200
TZOFFSETTO:+0100
TZNAME:CET
DTSTART:20251026T010000
END:STANDARD
BEGIN:DAYLIGHT
TZOFFSETFROM:+0100
TZOFFSETTO:+0200
TZNAME:CEST
DTSTART:20260329T010000
END:DAYLIGHT
BEGIN:STANDARD
TZOFFSETFROM:+0200
TZOFFSETTO:+0100
TZNAME:CET
DTSTART:20261025T010000
END:STANDARD
END:VTIMEZONE
BEGIN:VEVENT
DTSTART;TZID=Europe/Berlin:20251001T190000
DTEND;TZID=Europe/Berlin:20251001T210000
DTSTAMP:20260421T104508
CREATED:20250625T094221Z
LAST-MODIFIED:20250625T094221Z
UID:3826-1759345200-1759352400@www.fabianvogt.de
SUMMARY:Duo Camillo: Sundays for future – Musikkabarett
DESCRIPTION:Freitags demonstrieren kann jeder. Echte Helden springen sonntags von der Memory-Schaum-Matratze\, weil sie wissen: „Man kann nur retten\, was man liebt.“ Und um sich in die Schöpfung\, das Leben und die Sellerie-Baiser-Torte von Oma neu zu verlieben\, dafür ist der Sonntag nun mal der perfekte Tag. Wenn nur die Grenze zwischen Liturgie und Lethargie nicht so fließend wäre. Höchste Zeit\, wieder mehr sonntägliche Ekstase zu wagen.
URL:https://www.fabianvogt.de/event/duo-camillo-sundays-for-future-musikkabarett-23/
LOCATION:Schorndorf
END:VEVENT
BEGIN:VEVENT
DTSTART;TZID=Europe/Berlin:20251012T160000
DTEND;TZID=Europe/Berlin:20251012T180000
DTSTAMP:20260421T104508
CREATED:20250625T094412Z
LAST-MODIFIED:20250625T094412Z
UID:3829-1760284800-1760292000@www.fabianvogt.de
SUMMARY:100 Dinge\, die du NACH dem Tod auf keinen Fall verpassen solltest – Vortrag mit Musik
DESCRIPTION:Kommt nach dem Tod noch was? Und wie! Zumindest ist die Welt voller faszinierender Jenseitsvorstellungen\, die unsterbliche Erlebnisse versprechen. \nFabian Vogt präsentiert die schönsten „Highlights“ der Ewigkeit – und zeigt dabei auf höchst unterhaltsame Weise\, warum die vielen anregenden Bilder helfen\, mit der irdischen Vergänglichkeit spürbar gelassener umzugehen.
URL:https://www.fabianvogt.de/event/100-dinge-die-du-nach-dem-tod-auf-keinen-fall-verpassen-solltest-vortrag-mit-musik-12/
LOCATION:Versmold
END:VEVENT
BEGIN:VEVENT
DTSTART;TZID=Europe/Berlin:20251022T190000
DTEND;TZID=Europe/Berlin:20251022T210000
DTSTAMP:20260421T104508
CREATED:20250625T100223Z
LAST-MODIFIED:20250625T100223Z
UID:3854-1761159600-1761166800@www.fabianvogt.de
SUMMARY:100 Dinge\, die du NACH dem Tod auf keinen Fall verpassen solltest – Vortrag mit Musik
DESCRIPTION:Kommt nach dem Tod noch was? Und wie! Zumindest ist die Welt voller faszinierender Jenseitsvorstellungen\, die unsterbliche Erlebnisse versprechen. \nFabian Vogt präsentiert die schönsten „Highlights“ der Ewigkeit – und zeigt dabei auf höchst unterhaltsame Weise\, warum die vielen anregenden Bilder helfen\, mit der irdischen Vergänglichkeit spürbar gelassener umzugehen.
URL:https://www.fabianvogt.de/event/100-dinge-die-du-nach-dem-tod-auf-keinen-fall-verpassen-solltest-vortrag-mit-musik-17/
LOCATION:Oberstedten\, Kirchstraße 28\, Oberursel\, 61440
END:VEVENT
BEGIN:VEVENT
DTSTART;TZID=Europe/Berlin:20251023T190000
DTEND;TZID=Europe/Berlin:20251023T210000
DTSTAMP:20260421T104508
CREATED:20250625T094542Z
LAST-MODIFIED:20250625T094542Z
UID:3832-1761246000-1761253200@www.fabianvogt.de
SUMMARY:Duo Camillo: Liebling\, ich habe die Kirche geschrumpft – Musikkabarett
DESCRIPTION:Small ist nicht immer beautiful. Duo Camillo macht Lust\, größer zu denken.
URL:https://www.fabianvogt.de/event/duo-camillo-liebling-ich-habe-die-kirche-geschrumpft-musikkabarett-2/
LOCATION:Castrop-Rauxel
END:VEVENT
BEGIN:VEVENT
DTSTART;TZID=Europe/Berlin:20251024T190000
DTEND;TZID=Europe/Berlin:20251026T130000
DTSTAMP:20260421T104508
CREATED:20250625T095104Z
LAST-MODIFIED:20250625T095104Z
UID:3835-1761332400-1761483600@www.fabianvogt.de
SUMMARY:Oktoberfest: Dreierlei Glück
DESCRIPTION:„Gott\, gib mir die Gelassenheit\, Dinge hinzunehmen\, die ich nicht ändern kann\, den Mut\, Dinge zu ändern\, die ich ändern kann\, und die Weisheit\, das eine vom anderen zu unterscheiden.“ Schreibt der kluge Reinhold Niebuhr . Wir schauen\, wie Gelassenheit\, Mut und Weisheit heute ein Leben verändern können.
URL:https://www.fabianvogt.de/event/oktoberfest-dreierlei-glueck/
LOCATION:Niederhöchstadt
END:VEVENT
BEGIN:VEVENT
DTSTART;TZID=Europe/Berlin:20251031T110000
DTEND;TZID=Europe/Berlin:20251031T123000
DTSTAMP:20260421T104508
CREATED:20250625T095513Z
LAST-MODIFIED:20250625T095513Z
UID:3838-1761908400-1761913800@www.fabianvogt.de
SUMMARY:Reformationstag: Predigt zu 500. Jahre Bauernkriege
DESCRIPTION:Vor 500 Jahren tobten die Bauernkriege. Ausgelöst durch Menschen\, die mehr demokratische Rechte einforderten\,. Fabian Vogt schaut\, ob wir uns von dieser Bewegung innerhalb der Reformation heute noch inspirieren lassen können.
URL:https://www.fabianvogt.de/event/reformationstag-predigt-zu-500-jahre-bauernkriege/
LOCATION:Wittenberg
END:VEVENT
END:VCALENDAR