BEGIN:VCALENDAR
VERSION:2.0
PRODID:-//Fabian Vogt - ECPv6.15.20//NONSGML v1.0//EN
CALSCALE:GREGORIAN
METHOD:PUBLISH
X-WR-CALNAME:Fabian Vogt
X-ORIGINAL-URL:https://www.fabianvogt.de
X-WR-CALDESC:Veranstaltungen für Fabian Vogt
REFRESH-INTERVAL;VALUE=DURATION:PT1H
X-Robots-Tag:noindex
X-PUBLISHED-TTL:PT1H
BEGIN:VTIMEZONE
TZID:Europe/Berlin
BEGIN:DAYLIGHT
TZOFFSETFROM:+0100
TZOFFSETTO:+0200
TZNAME:CEST
DTSTART:20240331T010000
END:DAYLIGHT
BEGIN:STANDARD
TZOFFSETFROM:+0200
TZOFFSETTO:+0100
TZNAME:CET
DTSTART:20241027T010000
END:STANDARD
BEGIN:DAYLIGHT
TZOFFSETFROM:+0100
TZOFFSETTO:+0200
TZNAME:CEST
DTSTART:20250330T010000
END:DAYLIGHT
BEGIN:STANDARD
TZOFFSETFROM:+0200
TZOFFSETTO:+0100
TZNAME:CET
DTSTART:20251026T010000
END:STANDARD
BEGIN:DAYLIGHT
TZOFFSETFROM:+0100
TZOFFSETTO:+0200
TZNAME:CEST
DTSTART:20260329T010000
END:DAYLIGHT
BEGIN:STANDARD
TZOFFSETFROM:+0200
TZOFFSETTO:+0100
TZNAME:CET
DTSTART:20261025T010000
END:STANDARD
END:VTIMEZONE
BEGIN:VEVENT
DTSTART;TZID=Europe/Berlin:20250718T190000
DTEND;TZID=Europe/Berlin:20250718T203000
DTSTAMP:20260419T151342
CREATED:20250625T084939Z
LAST-MODIFIED:20250625T084939Z
UID:3804-1752865200-1752870600@www.fabianvogt.de
SUMMARY:100 Dinge\, die du NACH dem Tod auf keinen Fall verpassen solltest – Vortrag mit Musik
DESCRIPTION:Kommt nach dem Tod noch was? Und wie! Zumindest ist die Welt voller faszinierender Jenseitsvorstellungen\, die unsterbliche Erlebnisse versprechen. \nFabian Vogt präsentiert die schönsten „Highlights“ der Ewigkeit – und zeigt dabei auf höchst unterhaltsame Weise\, warum die vielen anregenden Bilder helfen\, mit der irdischen Vergänglichkeit spürbar gelassener umzugehen.
URL:https://www.fabianvogt.de/event/100-dinge-die-du-nach-dem-tod-auf-keinen-fall-verpassen-solltest-vortrag-mit-musik-11/
LOCATION:Schaafheim
END:VEVENT
BEGIN:VEVENT
DTSTART;TZID=Europe/Berlin:20250719T170700
DTEND;TZID=Europe/Berlin:20250719T190700
DTSTAMP:20260419T151342
CREATED:20250625T085151Z
LAST-MODIFIED:20250625T085151Z
UID:3807-1752944820-1752952020@www.fabianvogt.de
SUMMARY:Duo Camillo: Sundays for future – Musikkabarett
DESCRIPTION:Freitags demonstrieren kann jeder. Echte Helden springen sonntags von der Memory-Schaum-Matratze\, weil sie wissen: „Man kann nur retten\, was man liebt.“ Und um sich in die Schöpfung\, das Leben und die Sellerie-Baiser-Torte von Oma neu zu verlieben\, dafür ist der Sonntag nun mal der perfekte Tag. Wenn nur die Grenze zwischen Liturgie und Lethargie nicht so fließend wäre. Höchste Zeit\, wieder mehr sonntägliche Ekstase zu wagen.
URL:https://www.fabianvogt.de/event/duo-camillo-sundays-for-future-musikkabarett-20/
LOCATION:Bad Homburg\, Erlöserkirche
END:VEVENT
END:VCALENDAR