BEGIN:VCALENDAR
VERSION:2.0
PRODID:-//Fabian Vogt - ECPv6.15.20//NONSGML v1.0//EN
CALSCALE:GREGORIAN
METHOD:PUBLISH
X-ORIGINAL-URL:https://www.fabianvogt.de
X-WR-CALDESC:Veranstaltungen für Fabian Vogt
REFRESH-INTERVAL;VALUE=DURATION:PT1H
X-Robots-Tag:noindex
X-PUBLISHED-TTL:PT1H
BEGIN:VTIMEZONE
TZID:Europe/Berlin
BEGIN:DAYLIGHT
TZOFFSETFROM:+0100
TZOFFSETTO:+0200
TZNAME:CEST
DTSTART:20240331T010000
END:DAYLIGHT
BEGIN:STANDARD
TZOFFSETFROM:+0200
TZOFFSETTO:+0100
TZNAME:CET
DTSTART:20241027T010000
END:STANDARD
BEGIN:DAYLIGHT
TZOFFSETFROM:+0100
TZOFFSETTO:+0200
TZNAME:CEST
DTSTART:20250330T010000
END:DAYLIGHT
BEGIN:STANDARD
TZOFFSETFROM:+0200
TZOFFSETTO:+0100
TZNAME:CET
DTSTART:20251026T010000
END:STANDARD
BEGIN:DAYLIGHT
TZOFFSETFROM:+0100
TZOFFSETTO:+0200
TZNAME:CEST
DTSTART:20260329T010000
END:DAYLIGHT
BEGIN:STANDARD
TZOFFSETFROM:+0200
TZOFFSETTO:+0100
TZNAME:CET
DTSTART:20261025T010000
END:STANDARD
END:VTIMEZONE
BEGIN:VEVENT
DTSTART;TZID=Europe/Berlin:20250614T143000
DTEND;TZID=Europe/Berlin:20250614T160000
DTSTAMP:20260419T164709
CREATED:20241225T185632Z
LAST-MODIFIED:20241225T185632Z
UID:3776-1749911400-1749916800@www.fabianvogt.de
SUMMARY:100 Dinge\, die du NACH dem Tod auf keinen Fall verpassen solltest – Vortrag mit Musik
DESCRIPTION:Zwei Drittel aller Deutschen sind überzeugt: „Nach dem Tod kommt noch was!“ Aber was? Fabian Vogt nimmt Sie mit auf eine faszinierende Reise durch die schönsten Jenseitsvorstellungen der Kulturen\, Religionen\, Philosophen und Künste. Atemberaubend und so\, dass Sie gar nicht wieder zurückwollen. Einfach paradiesisch gut. Beziehungsweise: Genau das Richtige\, um die Lust am Leben neu zu entdecken.
URL:https://www.fabianvogt.de/event/100-dinge-die-du-nach-dem-tod-auf-keinen-fall-verpassen-solltest-vortrag-mit-musik-10/
LOCATION:Lippstadt
END:VEVENT
BEGIN:VEVENT
DTSTART;TZID=Europe/Berlin:20250614T190000
DTEND;TZID=Europe/Berlin:20250614T213000
DTSTAMP:20260419T164709
CREATED:20241225T185809Z
LAST-MODIFIED:20241225T185809Z
UID:3779-1749927600-1749936600@www.fabianvogt.de
SUMMARY:Duo Camillo: Liebling\, ich habe die Kirche geschrumpft – Musikkabarett
DESCRIPTION:Freitags demonstrieren kann jeder. Echte Helden springen sonntags von der Memory-Schaum-Matratze\, weil sie wissen: „Man kann nur retten\, was man liebt.“ Wenn nur die Grenzen zwischen Liturgie und Lethargie nicht so fließend wären. Höchste Zeit\, wieder mehr sonntägliche Ekstase zu wagen. In ihrem neuen Programm zeigen die Verbalakrobaten auf höchst unterhaltsame Weise\, warum „Glaube\, Liebe und Hoffnung“ nach wie vor das perfekte Fundament für echtes Change-Management sind.
URL:https://www.fabianvogt.de/event/duo-camillo-liebling-ich-habe-die-kirche-geschrumpft-musikkabarett/
LOCATION:Witten
END:VEVENT
BEGIN:VEVENT
DTSTART;TZID=Europe/Berlin:20250615T190000
DTEND;TZID=Europe/Berlin:20250615T213000
DTSTAMP:20260419T164709
CREATED:20241225T185930Z
LAST-MODIFIED:20241225T185930Z
UID:3782-1750014000-1750023000@www.fabianvogt.de
SUMMARY:Duo Camillo: Sundays for future – Musikkabarett
DESCRIPTION:Freitags demonstrieren kann jeder. Echte Helden springen sonntags von der Memory-Schaum-Matratze\, weil sie wissen: „Man kann nur retten\, was man liebt.“ Wenn nur die Grenzen zwischen Liturgie und Lethargie nicht so fließend wären. Höchste Zeit\, wieder mehr sonntägliche Ekstase zu wagen. In ihrem neuen Programm zeigen die Verbalakrobaten auf höchst unterhaltsame Weise\, warum „Glaube\, Liebe und Hoffnung“ nach wie vor das perfekte Fundament für echtes Change-Management sind.
URL:https://www.fabianvogt.de/event/duo-camillo-sundays-for-future-musikkabarett-19/
LOCATION:Bochum
END:VEVENT
BEGIN:VEVENT
DTSTART;TZID=Europe/Berlin:20250618T173000
DTEND;TZID=Europe/Berlin:20250618T190000
DTSTAMP:20260419T164709
CREATED:20241225T190110Z
LAST-MODIFIED:20241225T190110Z
UID:3784-1750267800-1750273200@www.fabianvogt.de
SUMMARY:Musikkabarett zur Quellenkirche auf dem Hessentag
DESCRIPTION:Leben wie aus dem Quelle-Katalog: Duo Camillo geht dem auf den Grund\, was wirklich erfrischt.
URL:https://www.fabianvogt.de/event/musikkabarett-zur-quellenkirche-auf-dem-hessentag/
LOCATION:Bad Vilbel
END:VEVENT
BEGIN:VEVENT
DTSTART;TZID=Europe/Berlin:20250624T100000
DTEND;TZID=Europe/Berlin:20250624T110000
DTSTAMP:20260419T164709
CREATED:20241225T190231Z
LAST-MODIFIED:20241225T190231Z
UID:3786-1750759200-1750762800@www.fabianvogt.de
SUMMARY:Vortrag: Zukunft der Kirche
DESCRIPTION:
URL:https://www.fabianvogt.de/event/vortrag-zukunft-der-kirche/
LOCATION:Unterweissach
END:VEVENT
BEGIN:VEVENT
DTSTART;TZID=Europe/Berlin:20250628T190000
DTEND;TZID=Europe/Berlin:20250628T203000
DTSTAMP:20260419T164709
CREATED:20250625T084757Z
LAST-MODIFIED:20250625T084757Z
UID:3801-1751137200-1751142600@www.fabianvogt.de
SUMMARY:Solokonzert: Sundays for future
DESCRIPTION:Freitags demonstrieren kann jeder. Echte Helden springen sonntags von der Memory-Schaum-Matratze\, weil sie wissen: „Man kann nur retten\, was man liebt.“ Und um sich in die Schöpfung\, das Leben und die Sellerie-Baiser-Torte von Oma neu zu verlieben\, dafür ist der Sonntag nun mal der perfekte Tag. Wenn nur die Grenze zwischen Liturgie und Lethargie nicht so fließend wäre. Höchste Zeit\, wieder mehr sonntägliche Ekstase zu wagen.
URL:https://www.fabianvogt.de/event/solokonzert-sundays-for-future/
LOCATION:Sternkirche Potsdam
END:VEVENT
END:VCALENDAR