BEGIN:VCALENDAR
VERSION:2.0
PRODID:-//Fabian Vogt - ECPv6.15.20//NONSGML v1.0//EN
CALSCALE:GREGORIAN
METHOD:PUBLISH
X-ORIGINAL-URL:https://www.fabianvogt.de
X-WR-CALDESC:Veranstaltungen für Fabian Vogt
REFRESH-INTERVAL;VALUE=DURATION:PT1H
X-Robots-Tag:noindex
X-PUBLISHED-TTL:PT1H
BEGIN:VTIMEZONE
TZID:Europe/Berlin
BEGIN:DAYLIGHT
TZOFFSETFROM:+0100
TZOFFSETTO:+0200
TZNAME:CEST
DTSTART:20240331T010000
END:DAYLIGHT
BEGIN:STANDARD
TZOFFSETFROM:+0200
TZOFFSETTO:+0100
TZNAME:CET
DTSTART:20241027T010000
END:STANDARD
BEGIN:DAYLIGHT
TZOFFSETFROM:+0100
TZOFFSETTO:+0200
TZNAME:CEST
DTSTART:20250330T010000
END:DAYLIGHT
BEGIN:STANDARD
TZOFFSETFROM:+0200
TZOFFSETTO:+0100
TZNAME:CET
DTSTART:20251026T010000
END:STANDARD
BEGIN:DAYLIGHT
TZOFFSETFROM:+0100
TZOFFSETTO:+0200
TZNAME:CEST
DTSTART:20260329T010000
END:DAYLIGHT
BEGIN:STANDARD
TZOFFSETFROM:+0200
TZOFFSETTO:+0100
TZNAME:CET
DTSTART:20261025T010000
END:STANDARD
END:VTIMEZONE
BEGIN:VEVENT
DTSTART;TZID=Europe/Berlin:20251115T090000
DTEND;TZID=Europe/Berlin:20251115T120000
DTSTAMP:20260421T105909
CREATED:20250625T100643Z
LAST-MODIFIED:20250625T100643Z
UID:3865-1763197200-1763208000@www.fabianvogt.de
SUMMARY:Verzeihen Sie bitte: Vortrag mit Musik
DESCRIPTION:Wie wäre es\, wenn wir einfach mal wieder ein bisschen gnädiger wären? Mit den anderen\, aber auch mit uns selbst? In einer Welt\, die immer ungnädiger und perfektionistischer wird. Warum? Weil letztlich unser Glück davon abhängt.
URL:https://www.fabianvogt.de/event/verzeihen-sie-bitte-vortrag-mit-musik/
LOCATION:Valbert
END:VEVENT
END:VCALENDAR