BEGIN:VCALENDAR
VERSION:2.0
PRODID:-//Fabian Vogt - ECPv6.15.20//NONSGML v1.0//EN
CALSCALE:GREGORIAN
METHOD:PUBLISH
X-ORIGINAL-URL:https://www.fabianvogt.de
X-WR-CALDESC:Veranstaltungen für Fabian Vogt
REFRESH-INTERVAL;VALUE=DURATION:PT1H
X-Robots-Tag:noindex
X-PUBLISHED-TTL:PT1H
BEGIN:VTIMEZONE
TZID:Europe/Berlin
BEGIN:DAYLIGHT
TZOFFSETFROM:+0100
TZOFFSETTO:+0200
TZNAME:CEST
DTSTART:20240331T010000
END:DAYLIGHT
BEGIN:STANDARD
TZOFFSETFROM:+0200
TZOFFSETTO:+0100
TZNAME:CET
DTSTART:20241027T010000
END:STANDARD
BEGIN:DAYLIGHT
TZOFFSETFROM:+0100
TZOFFSETTO:+0200
TZNAME:CEST
DTSTART:20250330T010000
END:DAYLIGHT
BEGIN:STANDARD
TZOFFSETFROM:+0200
TZOFFSETTO:+0100
TZNAME:CET
DTSTART:20251026T010000
END:STANDARD
BEGIN:DAYLIGHT
TZOFFSETFROM:+0100
TZOFFSETTO:+0200
TZNAME:CEST
DTSTART:20260329T010000
END:DAYLIGHT
BEGIN:STANDARD
TZOFFSETFROM:+0200
TZOFFSETTO:+0100
TZNAME:CET
DTSTART:20261025T010000
END:STANDARD
END:VTIMEZONE
BEGIN:VEVENT
DTSTART;TZID=Europe/Berlin:20250615T190000
DTEND;TZID=Europe/Berlin:20250615T213000
DTSTAMP:20260419T175908
CREATED:20241225T185930Z
LAST-MODIFIED:20241225T185930Z
UID:3782-1750014000-1750023000@www.fabianvogt.de
SUMMARY:Duo Camillo: Sundays for future – Musikkabarett
DESCRIPTION:Freitags demonstrieren kann jeder. Echte Helden springen sonntags von der Memory-Schaum-Matratze\, weil sie wissen: „Man kann nur retten\, was man liebt.“ Wenn nur die Grenzen zwischen Liturgie und Lethargie nicht so fließend wären. Höchste Zeit\, wieder mehr sonntägliche Ekstase zu wagen. In ihrem neuen Programm zeigen die Verbalakrobaten auf höchst unterhaltsame Weise\, warum „Glaube\, Liebe und Hoffnung“ nach wie vor das perfekte Fundament für echtes Change-Management sind.
URL:https://www.fabianvogt.de/event/duo-camillo-sundays-for-future-musikkabarett-19/
LOCATION:Bochum
END:VEVENT
END:VCALENDAR